BEGIN:VCALENDAR
VERSION:2.0
PRODID:-//Floyd County Parks and Rec - ECPv6.15.12.2//NONSGML v1.0//EN
CALSCALE:GREGORIAN
METHOD:PUBLISH
X-ORIGINAL-URL:https://floydcountyparksandrec.org
X-WR-CALDESC:Events for Floyd County Parks and Rec
REFRESH-INTERVAL;VALUE=DURATION:PT1H
X-Robots-Tag:noindex
X-PUBLISHED-TTL:PT1H
BEGIN:VTIMEZONE
TZID:America/New_York
BEGIN:DAYLIGHT
TZOFFSETFROM:-0500
TZOFFSETTO:-0400
TZNAME:EDT
DTSTART:20240310T070000
END:DAYLIGHT
BEGIN:STANDARD
TZOFFSETFROM:-0400
TZOFFSETTO:-0500
TZNAME:EST
DTSTART:20241103T060000
END:STANDARD
BEGIN:DAYLIGHT
TZOFFSETFROM:-0500
TZOFFSETTO:-0400
TZNAME:EDT
DTSTART:20250309T070000
END:DAYLIGHT
BEGIN:STANDARD
TZOFFSETFROM:-0400
TZOFFSETTO:-0500
TZNAME:EST
DTSTART:20251102T060000
END:STANDARD
BEGIN:DAYLIGHT
TZOFFSETFROM:-0500
TZOFFSETTO:-0400
TZNAME:EDT
DTSTART:20260308T070000
END:DAYLIGHT
BEGIN:STANDARD
TZOFFSETFROM:-0400
TZOFFSETTO:-0500
TZNAME:EST
DTSTART:20261101T060000
END:STANDARD
END:VTIMEZONE
BEGIN:VEVENT
DTSTART;TZID=America/New_York:20250901T080000
DTEND;TZID=America/New_York:20251114T234500
DTSTAMP:20260423T220121
CREATED:20250926T160245Z
LAST-MODIFIED:20250926T160245Z
UID:2120-1756713600-1763163900@floydcountyparksandrec.org
SUMMARY:Winter Sports - Session 2 Registration
DESCRIPTION:𝗦𝗘𝗦𝗦𝗜𝗢𝗡 𝗜𝗜\nSEASON DATES: Early December – Late February\nREGISTRATION DATES: 9/1 – 11/15\nSPORTS: Boys 2-7 Basketball\, Girls 2-7 Basketball \nRegistration for Session II started on Monday\, September 1 and runs through Friday\, November 14th.\nLate registration will be open until November 21th and all participants will be subject to waitlist. Late registrations will only be accepted if rosters spots are open.\nNO REGISTRATIONS WILL BE ACCEPTED AFTER 11/22. \n4 team minimum per league. Older leagues game will involve out-of-county travel with Montgomery County Parks and Recreation and Radford Parks and Recreation. \n𝙉𝙤𝙩𝙚: Older league games will not start until mid-January therefore will not interfere with the MS basketball season. Practice dates and times will be depending on coach’s availability.
URL:https://floydcountyparksandrec.org/event/winter-sports-session-2-registration/
CATEGORIES:Athletics,Programs and Events
ORGANIZER;CN="Floyd County Parks and Rec":MAILTO:recreation@floydcova.org
END:VEVENT
BEGIN:VEVENT
DTSTART;TZID=America/New_York:20250811T080000
DTEND;TZID=America/New_York:20251003T234500
DTSTAMP:20260423T220121
CREATED:20250926T160110Z
LAST-MODIFIED:20250926T160110Z
UID:2118-1754899200-1759535100@floydcountyparksandrec.org
SUMMARY:Winter Sports - Session 1 Registration
DESCRIPTION:𝗦𝗘𝗦𝗦𝗜𝗢𝗡 𝗜\nSEASON DATES: Mid October – Mid December\nREGISTRATION DATES: 8/13 -10/3\nSPORTS: K-1 Coed Basketball & 3-8 Volleyball \nRegistration for Session I started on Wednesday\, August 13 and runs through Friday\, October 3rd.\nLate registration will be open until October 10th. and all participants will be subject to waitlist. Late registrations will only be accepted if rosters spots are open.\nNO REGISTRATIONS WILL BE ACCEPTED AFTER 10/12. \n𝙉𝙤𝙩𝙚: K-1 Basketball and Volleyball will not interfere with any fall sports. Practice dates and times will be depending on coach’s availability.
URL:https://floydcountyparksandrec.org/event/winter-sports-session-1-registration/
CATEGORIES:Athletics,Programs and Events
ORGANIZER;CN="Floyd County Parks and Rec":MAILTO:recreation@floydcova.org
END:VEVENT
END:VCALENDAR