BEGIN:VCALENDAR
VERSION:2.0
PRODID:-//Floyd County Parks and Rec - ECPv6.15.12.2//NONSGML v1.0//EN
CALSCALE:GREGORIAN
METHOD:PUBLISH
X-ORIGINAL-URL:https://floydcountyparksandrec.org
X-WR-CALDESC:Events for Floyd County Parks and Rec
REFRESH-INTERVAL;VALUE=DURATION:PT1H
X-Robots-Tag:noindex
X-PUBLISHED-TTL:PT1H
BEGIN:VTIMEZONE
TZID:America/New_York
BEGIN:DAYLIGHT
TZOFFSETFROM:-0500
TZOFFSETTO:-0400
TZNAME:EDT
DTSTART:20230312T070000
END:DAYLIGHT
BEGIN:STANDARD
TZOFFSETFROM:-0400
TZOFFSETTO:-0500
TZNAME:EST
DTSTART:20231105T060000
END:STANDARD
BEGIN:DAYLIGHT
TZOFFSETFROM:-0500
TZOFFSETTO:-0400
TZNAME:EDT
DTSTART:20240310T070000
END:DAYLIGHT
BEGIN:STANDARD
TZOFFSETFROM:-0400
TZOFFSETTO:-0500
TZNAME:EST
DTSTART:20241103T060000
END:STANDARD
BEGIN:DAYLIGHT
TZOFFSETFROM:-0500
TZOFFSETTO:-0400
TZNAME:EDT
DTSTART:20250309T070000
END:DAYLIGHT
BEGIN:STANDARD
TZOFFSETFROM:-0400
TZOFFSETTO:-0500
TZNAME:EST
DTSTART:20251102T060000
END:STANDARD
BEGIN:DAYLIGHT
TZOFFSETFROM:-0500
TZOFFSETTO:-0400
TZNAME:EDT
DTSTART:20260308T070000
END:DAYLIGHT
BEGIN:STANDARD
TZOFFSETFROM:-0400
TZOFFSETTO:-0500
TZNAME:EST
DTSTART:20261101T060000
END:STANDARD
END:VTIMEZONE
BEGIN:VEVENT
DTSTART;TZID=America/New_York:20250906T150000
DTEND;TZID=America/New_York:20250906T210000
DTSTAMP:20260423T174644
CREATED:20250902T152816Z
LAST-MODIFIED:20250902T152816Z
UID:1943-1757170800-1757192400@floydcountyparksandrec.org
SUMMARY:Shelter Reservation
DESCRIPTION:Kaylee Stump
URL:https://floydcountyparksandrec.org/event/shelter-reservation-25/
LOCATION:Rec Park Picnic Shelter\, 114 Park Dr NE\, Floyd\, VA\, 24091\, United States
CATEGORIES:Calendars,Shelter Reservation
END:VEVENT
BEGIN:VEVENT
DTSTART;TZID=America/New_York:20250901T080000
DTEND;TZID=America/New_York:20251114T234500
DTSTAMP:20260423T174644
CREATED:20250926T160245Z
LAST-MODIFIED:20250926T160245Z
UID:2120-1756713600-1763163900@floydcountyparksandrec.org
SUMMARY:Winter Sports - Session 2 Registration
DESCRIPTION:𝗦𝗘𝗦𝗦𝗜𝗢𝗡 𝗜𝗜\nSEASON DATES: Early December – Late February\nREGISTRATION DATES: 9/1 – 11/15\nSPORTS: Boys 2-7 Basketball\, Girls 2-7 Basketball \nRegistration for Session II started on Monday\, September 1 and runs through Friday\, November 14th.\nLate registration will be open until November 21th and all participants will be subject to waitlist. Late registrations will only be accepted if rosters spots are open.\nNO REGISTRATIONS WILL BE ACCEPTED AFTER 11/22. \n4 team minimum per league. Older leagues game will involve out-of-county travel with Montgomery County Parks and Recreation and Radford Parks and Recreation. \n𝙉𝙤𝙩𝙚: Older league games will not start until mid-January therefore will not interfere with the MS basketball season. Practice dates and times will be depending on coach’s availability.
URL:https://floydcountyparksandrec.org/event/winter-sports-session-2-registration/
LOCATION:VA
CATEGORIES:Athletics,Programs and Events
ORGANIZER;CN="Floyd County Parks and Rec":MAILTO:recreation@floydcova.org
END:VEVENT
BEGIN:VEVENT
DTSTART;TZID=America/New_York:20250811T080000
DTEND;TZID=America/New_York:20251003T234500
DTSTAMP:20260423T174644
CREATED:20250926T160110Z
LAST-MODIFIED:20250926T160110Z
UID:2118-1754899200-1759535100@floydcountyparksandrec.org
SUMMARY:Winter Sports - Session 1 Registration
DESCRIPTION:𝗦𝗘𝗦𝗦𝗜𝗢𝗡 𝗜\nSEASON DATES: Mid October – Mid December\nREGISTRATION DATES: 8/13 -10/3\nSPORTS: K-1 Coed Basketball & 3-8 Volleyball \nRegistration for Session I started on Wednesday\, August 13 and runs through Friday\, October 3rd.\nLate registration will be open until October 10th. and all participants will be subject to waitlist. Late registrations will only be accepted if rosters spots are open.\nNO REGISTRATIONS WILL BE ACCEPTED AFTER 10/12. \n𝙉𝙤𝙩𝙚: K-1 Basketball and Volleyball will not interfere with any fall sports. Practice dates and times will be depending on coach’s availability.
URL:https://floydcountyparksandrec.org/event/winter-sports-session-1-registration/
LOCATION:VA
CATEGORIES:Athletics,Programs and Events
ORGANIZER;CN="Floyd County Parks and Rec":MAILTO:recreation@floydcova.org
END:VEVENT
BEGIN:VEVENT
DTSTART;TZID=America/New_York:20250810T090000
DTEND;TZID=America/New_York:20250810T210000
DTSTAMP:20260423T174644
CREATED:20241004T184900Z
LAST-MODIFIED:20241004T184900Z
UID:678-1754816400-1754859600@floydcountyparksandrec.org
SUMMARY:Shelter Reservation
DESCRIPTION:Jon Connor
URL:https://floydcountyparksandrec.org/event/shelter-reservation-7/
LOCATION:Rec Park Picnic Shelter\, 114 Park Dr NE\, Floyd\, VA\, 24091\, United States
CATEGORIES:Shelter Reservation
END:VEVENT
BEGIN:VEVENT
DTSTART;TZID=America/New_York:20250809T090000
DTEND;TZID=America/New_York:20250809T210000
DTSTAMP:20260423T174644
CREATED:20250427T144726Z
LAST-MODIFIED:20250427T144726Z
UID:1885-1754730000-1754773200@floydcountyparksandrec.org
SUMMARY:Shelter Reservation
DESCRIPTION:Renee Turner
URL:https://floydcountyparksandrec.org/event/shelter-reservation-17/
LOCATION:Rec Park Picnic Shelter\, 114 Park Dr NE\, Floyd\, VA\, 24091\, United States
CATEGORIES:Calendars,Shelter Reservation
END:VEVENT
BEGIN:VEVENT
DTSTART;TZID=America/New_York:20250802T090000
DTEND;TZID=America/New_York:20250802T150000
DTSTAMP:20260423T174644
CREATED:20241004T184810Z
LAST-MODIFIED:20241004T184810Z
UID:676-1754125200-1754146800@floydcountyparksandrec.org
SUMMARY:Shelter Reservation
DESCRIPTION:Eddie Bower
URL:https://floydcountyparksandrec.org/event/shelter-reservation-6/
LOCATION:Rec Park Picnic Shelter\, 114 Park Dr NE\, Floyd\, VA\, 24091\, United States
CATEGORIES:Shelter Reservation
END:VEVENT
BEGIN:VEVENT
DTSTART;TZID=America/New_York:20250727T090000
DTEND;TZID=America/New_York:20250727T150000
DTSTAMP:20260423T174644
CREATED:20250902T152750Z
LAST-MODIFIED:20250902T152750Z
UID:1941-1753606800-1753628400@floydcountyparksandrec.org
SUMMARY:Shelter Reservation
DESCRIPTION:Lucy Turner
URL:https://floydcountyparksandrec.org/event/shelter-reservation-24/
LOCATION:Rec Park Picnic Shelter\, 114 Park Dr NE\, Floyd\, VA\, 24091\, United States
CATEGORIES:Calendars,Shelter Reservation
END:VEVENT
BEGIN:VEVENT
DTSTART;TZID=America/New_York:20250705T090000
DTEND;TZID=America/New_York:20250705T150000
DTSTAMP:20260423T174644
CREATED:20250608T131809Z
LAST-MODIFIED:20250608T131809Z
UID:1894-1751706000-1751727600@floydcountyparksandrec.org
SUMMARY:Shelter Reservation
DESCRIPTION:Kali Hatcher
URL:https://floydcountyparksandrec.org/event/shelter-reservation-21/
LOCATION:Rec Park Picnic Shelter\, 114 Park Dr NE\, Floyd\, VA\, 24091\, United States
CATEGORIES:Calendars,Shelter Reservation
END:VEVENT
BEGIN:VEVENT
DTSTART;TZID=America/New_York:20250628T090000
DTEND;TZID=America/New_York:20250628T210000
DTSTAMP:20260423T174644
CREATED:20250902T152701Z
LAST-MODIFIED:20250902T152714Z
UID:1939-1751101200-1751144400@floydcountyparksandrec.org
SUMMARY:Shelter Reservation
DESCRIPTION:Diamond Cox
URL:https://floydcountyparksandrec.org/event/shelter-reservation-23/
LOCATION:Rec Park Picnic Shelter\, 114 Park Dr NE\, Floyd\, VA\, 24091\, United States
CATEGORIES:Calendars,Shelter Reservation
END:VEVENT
BEGIN:VEVENT
DTSTART;TZID=America/New_York:20250615T150000
DTEND;TZID=America/New_York:20250615T210000
DTSTAMP:20260423T174644
CREATED:20250608T131725Z
LAST-MODIFIED:20250608T131725Z
UID:1892-1749999600-1750021200@floydcountyparksandrec.org
SUMMARY:Shelter Reservation
DESCRIPTION:Hannah Martin
URL:https://floydcountyparksandrec.org/event/shelter-reservation-20/
LOCATION:Rec Park Picnic Shelter\, 114 Park Dr NE\, Floyd\, VA\, 24091\, United States
CATEGORIES:Calendars,Shelter Reservation
END:VEVENT
BEGIN:VEVENT
DTSTART;TZID=America/New_York:20250614T150000
DTEND;TZID=America/New_York:20250614T210000
DTSTAMP:20260423T174644
CREATED:20250902T152620Z
LAST-MODIFIED:20250902T152620Z
UID:1937-1749913200-1749934800@floydcountyparksandrec.org
SUMMARY:Shelter Reservation
DESCRIPTION:Jasmine Nichols
URL:https://floydcountyparksandrec.org/event/shelter-reservation-22/
LOCATION:Rec Park Picnic Shelter\, 114 Park Dr NE\, Floyd\, VA\, 24091\, United States
CATEGORIES:Calendars,Shelter Reservation
END:VEVENT
BEGIN:VEVENT
DTSTART;TZID=America/New_York:20250614T090000
DTEND;TZID=America/New_York:20250614T210000
DTSTAMP:20260423T174644
CREATED:20250608T131624Z
LAST-MODIFIED:20250608T131624Z
UID:1890-1749891600-1749934800@floydcountyparksandrec.org
SUMMARY:Shelter Reservation
DESCRIPTION:Cassandra Beckner
URL:https://floydcountyparksandrec.org/event/shelter-reservation-19/
LOCATION:Rec Park Picnic Shelter\, 114 Park Dr NE\, Floyd\, VA\, 24091\, United States
CATEGORIES:Calendars,Shelter Reservation
END:VEVENT
BEGIN:VEVENT
DTSTART;TZID=America/New_York:20250517T090000
DTEND;TZID=America/New_York:20250517T210000
DTSTAMP:20260423T174644
CREATED:20250410T000827Z
LAST-MODIFIED:20250410T000827Z
UID:1839-1747472400-1747515600@floydcountyparksandrec.org
SUMMARY:Shelter Reservation
DESCRIPTION:Taylor Lusk
URL:https://floydcountyparksandrec.org/event/shelter-reservation-11/
LOCATION:Rec Park Picnic Shelter\, 114 Park Dr NE\, Floyd\, VA\, 24091\, United States
CATEGORIES:Calendars,Shelter Reservation
END:VEVENT
BEGIN:VEVENT
DTSTART;TZID=America/New_York:20250514T090000
DTEND;TZID=America/New_York:20250514T150000
DTSTAMP:20260423T174644
CREATED:20250410T000946Z
LAST-MODIFIED:20250410T000946Z
UID:1841-1747213200-1747234800@floydcountyparksandrec.org
SUMMARY:Shelter Reservation
DESCRIPTION:Amanda Bolt
URL:https://floydcountyparksandrec.org/event/shelter-reservation-12/
LOCATION:Rec Park Picnic Shelter\, 114 Park Dr NE\, Floyd\, VA\, 24091\, United States
CATEGORIES:Calendars,Shelter Reservation
END:VEVENT
BEGIN:VEVENT
DTSTART;TZID=America/New_York:20250502T090000
DTEND;TZID=America/New_York:20250502T150000
DTSTAMP:20260423T174644
CREATED:20250410T001125Z
LAST-MODIFIED:20250410T001125Z
UID:1845-1746176400-1746198000@floydcountyparksandrec.org
SUMMARY:Shelter Reservation
DESCRIPTION:IVES K – Virginia Allen
URL:https://floydcountyparksandrec.org/event/shelter-reservation-14/
LOCATION:Rec Park Picnic Shelter\, 114 Park Dr NE\, Floyd\, VA\, 24091\, United States
CATEGORIES:Calendars,Shelter Reservation
END:VEVENT
BEGIN:VEVENT
DTSTART;TZID=America/New_York:20250427T090000
DTEND;TZID=America/New_York:20250427T210000
DTSTAMP:20260423T174644
CREATED:20250427T144801Z
LAST-MODIFIED:20250427T144801Z
UID:1887-1745744400-1745787600@floydcountyparksandrec.org
SUMMARY:Shelter Reservation
DESCRIPTION:Orion Ridella
URL:https://floydcountyparksandrec.org/event/shelter-reservation-18/
LOCATION:Rec Park Picnic Shelter\, 114 Park Dr NE\, Floyd\, VA\, 24091\, United States
CATEGORIES:Calendars,Shelter Reservation
END:VEVENT
BEGIN:VEVENT
DTSTART;TZID=America/New_York:20250426T090000
DTEND;TZID=America/New_York:20250426T210000
DTSTAMP:20260423T174644
CREATED:20250421T104725Z
LAST-MODIFIED:20250421T104725Z
UID:1883-1745658000-1745701200@floydcountyparksandrec.org
SUMMARY:Shelter Reservation
DESCRIPTION:Chris Fawthrop
URL:https://floydcountyparksandrec.org/event/shelter-reservation-16/
LOCATION:Rec Park Picnic Shelter\, 114 Park Dr NE\, Floyd\, VA\, 24091\, United States
CATEGORIES:Calendars,Shelter Reservation
END:VEVENT
BEGIN:VEVENT
DTSTART;TZID=America/New_York:20250419T150000
DTEND;TZID=America/New_York:20250419T210000
DTSTAMP:20260423T174644
CREATED:20250415T101244Z
LAST-MODIFIED:20250415T101244Z
UID:1880-1745074800-1745096400@floydcountyparksandrec.org
SUMMARY:Shelter Reservation
DESCRIPTION:Jennie Kaufman
URL:https://floydcountyparksandrec.org/event/shelter-reservation-15/
LOCATION:Rec Park Picnic Shelter\, 114 Park Dr NE\, Floyd\, VA\, 24091\, United States
CATEGORIES:Calendars,Shelter Reservation
END:VEVENT
BEGIN:VEVENT
DTSTART;TZID=America/New_York:20250417T150000
DTEND;TZID=America/New_York:20250417T210000
DTSTAMP:20260423T174644
CREATED:20250410T001027Z
LAST-MODIFIED:20250410T001027Z
UID:1843-1744902000-1744923600@floydcountyparksandrec.org
SUMMARY:Shelter Reservation
DESCRIPTION:Hannah Martin
URL:https://floydcountyparksandrec.org/event/shelter-reservation-13/
LOCATION:Rec Park Picnic Shelter\, 114 Park Dr NE\, Floyd\, VA\, 24091\, United States
CATEGORIES:Calendars,Shelter Reservation
END:VEVENT
BEGIN:VEVENT
DTSTART;TZID=America/New_York:20250412T100000
DTEND;TZID=America/New_York:20250412T120000
DTSTAMP:20260423T174644
CREATED:20250221T123846Z
LAST-MODIFIED:20250221T124212Z
UID:1783-1744452000-1744459200@floydcountyparksandrec.org
SUMMARY:Buffalo Eggstravaganza
DESCRIPTION:Go To Event Page: 2025 Buffalo Eggstravaganza – Floyd County Parks and Rec
URL:https://floydcountyparksandrec.org/event/buffalo-eggstravaganza/
LOCATION:Floyd Rec Park Big Field – Field #3\, 210 Park Drive\, Floyd\, VA\, 24091\, United States
CATEGORIES:Calendars,Programs and Events
END:VEVENT
BEGIN:VEVENT
DTSTART;TZID=America/New_York:20250308T090000
DTEND;TZID=America/New_York:20250308T150000
DTSTAMP:20260423T174644
CREATED:20250221T115826Z
LAST-MODIFIED:20250221T115857Z
UID:1733-1741424400-1741446000@floydcountyparksandrec.org
SUMMARY:Shelter Reservation
DESCRIPTION:Alex Caudle
URL:https://floydcountyparksandrec.org/event/shelter-reservation-10/
LOCATION:Rec Park Picnic Shelter\, 114 Park Dr NE\, Floyd\, VA\, 24091\, United States
CATEGORIES:Calendars,Shelter Reservation
END:VEVENT
BEGIN:VEVENT
DTSTART;TZID=America/New_York:20241201T150000
DTEND;TZID=America/New_York:20241201T160000
DTSTAMP:20260423T174644
CREATED:20240927T170326Z
LAST-MODIFIED:20241003T133759Z
UID:457-1733065200-1733068800@floydcountyparksandrec.org
SUMMARY:Christmas Parade
DESCRIPTION:Community Event \nFloyd’s annual Christmas Parade will travel right through the heart of the Town of Floyd! Dozens of local Floyd organizations decorate cars\, trucks\, floats\, and even horses to show off this small town’s festive spirit! \nFor more information\, visit the dedicated event page here: \n[link coming soon]
URL:https://floydcountyparksandrec.org/event/christmas-parade/
LOCATION:Town of Floyd\, E Main Street\, Floyd\, VA\, 24091\, United States
CATEGORIES:Community Events,Programs and Events
ORGANIZER;CN="Floyd County Parks and Rec":MAILTO:recreation@floydcova.org
END:VEVENT
BEGIN:VEVENT
DTSTART;TZID=America/New_York:20241031T170000
DTEND;TZID=America/New_York:20241031T190000
DTSTAMP:20260423T174644
CREATED:20240920T175552Z
LAST-MODIFIED:20241003T133804Z
UID:401-1730394000-1730401200@floydcountyparksandrec.org
SUMMARY:Halloween in Town
DESCRIPTION:Community Event \nView more event details here: \nhttps://floydcountyparksandrec.org/halloween-2024/
URL:https://floydcountyparksandrec.org/event/halloween/
LOCATION:County Courthouse Parking Lot\, 100 E Main St\, Floyd\, VA\, 24091\, United States
CATEGORIES:Community Events,Programs and Events
ORGANIZER;CN="Floyd County Parks and Rec":MAILTO:recreation@floydcova.org
END:VEVENT
BEGIN:VEVENT
DTSTART;TZID=America/New_York:20241023T130000
DTEND;TZID=America/New_York:20241023T140000
DTSTAMP:20260423T174644
CREATED:20240927T165344Z
LAST-MODIFIED:20241003T133808Z
UID:451-1729688400-1729692000@floydcountyparksandrec.org
SUMMARY:Bingo
DESCRIPTION:Active Adults \nJoin us for bingo! Play for free and win prizes!
URL:https://floydcountyparksandrec.org/event/bingo-3/
LOCATION:June Bug Center – Meditation Room\, 251 Parkway Ln S\, Floyd\, VA\, 24091\, United States
CATEGORIES:Active Adults,Programs and Events
ORGANIZER;CN="Floyd County Parks and Rec":MAILTO:recreation@floydcova.org
END:VEVENT
BEGIN:VEVENT
DTSTART;TZID=America/New_York:20241019T150000
DTEND;TZID=America/New_York:20241019T210000
DTSTAMP:20260423T174644
CREATED:20241010T200639Z
LAST-MODIFIED:20241010T200639Z
UID:796-1729350000-1729371600@floydcountyparksandrec.org
SUMMARY:Shelter Reservation
DESCRIPTION:Stephanie Helm
URL:https://floydcountyparksandrec.org/event/shelter-reservation-9/
LOCATION:Rec Park Picnic Shelter\, 114 Park Dr NE\, Floyd\, VA\, 24091\, United States
CATEGORIES:Shelter Reservation
END:VEVENT
BEGIN:VEVENT
DTSTART;TZID=America/New_York:20241019T090000
DTEND;TZID=America/New_York:20241019T150000
DTSTAMP:20260423T174644
CREATED:20241008T140039Z
LAST-MODIFIED:20241010T200553Z
UID:748-1729328400-1729350000@floydcountyparksandrec.org
SUMMARY:Shelter Reservation
DESCRIPTION:James Shelton
URL:https://floydcountyparksandrec.org/event/shelter-reservation-8/
LOCATION:Rec Park Picnic Shelter\, 114 Park Dr NE\, Floyd\, VA\, 24091\, United States
CATEGORIES:Shelter Reservation
END:VEVENT
BEGIN:VEVENT
DTSTART;TZID=America/New_York:20241016T130000
DTEND;TZID=America/New_York:20241016T140000
DTSTAMP:20260423T174644
CREATED:20240927T165244Z
LAST-MODIFIED:20241003T133812Z
UID:448-1729083600-1729087200@floydcountyparksandrec.org
SUMMARY:Paint with Bob Ross
DESCRIPTION:Active Adults \nCome paint with us! We’ll be following along with a Bob Ross YouTube video to paint beautiful landscape scenes! \nAll supplies are provided\, including paint brushes\, acrylic paints\, canvases\, and more!
URL:https://floydcountyparksandrec.org/event/paint-with-bob-ross-2/
LOCATION:June Bug Center – Meditation Room\, 251 Parkway Ln S\, Floyd\, VA\, 24091\, United States
CATEGORIES:Active Adults,Programs and Events
ORGANIZER;CN="Floyd County Parks and Rec":MAILTO:recreation@floydcova.org
END:VEVENT
BEGIN:VEVENT
DTSTART;TZID=America/New_York:20241012T150000
DTEND;TZID=America/New_York:20241012T210000
DTSTAMP:20260423T174644
CREATED:20241004T184624Z
LAST-MODIFIED:20241004T184624Z
UID:672-1728745200-1728766800@floydcountyparksandrec.org
SUMMARY:Shelter Reservation
DESCRIPTION:Brandon Price
URL:https://floydcountyparksandrec.org/event/shelter-reservation-4/
LOCATION:Rec Park Picnic Shelter\, 114 Park Dr NE\, Floyd\, VA\, 24091\, United States
CATEGORIES:Shelter Reservation
END:VEVENT
BEGIN:VEVENT
DTSTART;TZID=America/New_York:20241012T090000
DTEND;TZID=America/New_York:20241012T150000
DTSTAMP:20260423T174644
CREATED:20241004T184651Z
LAST-MODIFIED:20241004T184651Z
UID:674-1728723600-1728745200@floydcountyparksandrec.org
SUMMARY:Shelter Reservation
DESCRIPTION:Justin Stutler
URL:https://floydcountyparksandrec.org/event/shelter-reservation-5/
LOCATION:Rec Park Picnic Shelter\, 114 Park Dr NE\, Floyd\, VA\, 24091\, United States
CATEGORIES:Shelter Reservation
END:VEVENT
BEGIN:VEVENT
DTSTART;TZID=America/New_York:20241011T140000
DTEND;TZID=America/New_York:20241011T210000
DTSTAMP:20260423T174644
CREATED:20241004T184549Z
LAST-MODIFIED:20241004T184549Z
UID:670-1728655200-1728680400@floydcountyparksandrec.org
SUMMARY:Shelter Reservation
DESCRIPTION:Amy Donahue
URL:https://floydcountyparksandrec.org/event/shelter-reservation-3/
LOCATION:Rec Park Picnic Shelter\, 114 Park Dr NE\, Floyd\, VA\, 24091\, United States
CATEGORIES:Shelter Reservation
END:VEVENT
END:VCALENDAR