BEGIN:VCALENDAR
VERSION:2.0
PRODID:-//Floyd County Parks and Rec - ECPv6.15.12.2//NONSGML v1.0//EN
CALSCALE:GREGORIAN
METHOD:PUBLISH
X-ORIGINAL-URL:https://floydcountyparksandrec.org
X-WR-CALDESC:Events for Floyd County Parks and Rec
REFRESH-INTERVAL;VALUE=DURATION:PT1H
X-Robots-Tag:noindex
X-PUBLISHED-TTL:PT1H
BEGIN:VTIMEZONE
TZID:America/New_York
BEGIN:DAYLIGHT
TZOFFSETFROM:-0500
TZOFFSETTO:-0400
TZNAME:EDT
DTSTART:20230312T070000
END:DAYLIGHT
BEGIN:STANDARD
TZOFFSETFROM:-0400
TZOFFSETTO:-0500
TZNAME:EST
DTSTART:20231105T060000
END:STANDARD
BEGIN:DAYLIGHT
TZOFFSETFROM:-0500
TZOFFSETTO:-0400
TZNAME:EDT
DTSTART:20240310T070000
END:DAYLIGHT
BEGIN:STANDARD
TZOFFSETFROM:-0400
TZOFFSETTO:-0500
TZNAME:EST
DTSTART:20241103T060000
END:STANDARD
BEGIN:DAYLIGHT
TZOFFSETFROM:-0500
TZOFFSETTO:-0400
TZNAME:EDT
DTSTART:20250309T070000
END:DAYLIGHT
BEGIN:STANDARD
TZOFFSETFROM:-0400
TZOFFSETTO:-0500
TZNAME:EST
DTSTART:20251102T060000
END:STANDARD
END:VTIMEZONE
BEGIN:VEVENT
DTSTART;TZID=America/New_York:20241201T150000
DTEND;TZID=America/New_York:20241201T160000
DTSTAMP:20260423T232734
CREATED:20240927T170326Z
LAST-MODIFIED:20241003T133759Z
UID:457-1733065200-1733068800@floydcountyparksandrec.org
SUMMARY:Christmas Parade
DESCRIPTION:Community Event \nFloyd’s annual Christmas Parade will travel right through the heart of the Town of Floyd! Dozens of local Floyd organizations decorate cars\, trucks\, floats\, and even horses to show off this small town’s festive spirit! \nFor more information\, visit the dedicated event page here: \n[link coming soon]
URL:https://floydcountyparksandrec.org/event/christmas-parade/
LOCATION:Town of Floyd\, E Main Street\, Floyd\, VA\, 24091\, United States
CATEGORIES:Community Events,Programs and Events
ORGANIZER;CN="Floyd County Parks and Rec":MAILTO:recreation@floydcova.org
END:VEVENT
BEGIN:VEVENT
DTSTART;TZID=America/New_York:20241031T170000
DTEND;TZID=America/New_York:20241031T190000
DTSTAMP:20260423T232734
CREATED:20240920T175552Z
LAST-MODIFIED:20241003T133804Z
UID:401-1730394000-1730401200@floydcountyparksandrec.org
SUMMARY:Halloween in Town
DESCRIPTION:Community Event \nView more event details here: \nHalloween 2024
URL:https://floydcountyparksandrec.org/event/halloween/
LOCATION:County Courthouse Parking Lot\, 100 E Main St\, Floyd\, VA\, 24091\, United States
CATEGORIES:Community Events,Programs and Events
ORGANIZER;CN="Floyd County Parks and Rec":MAILTO:recreation@floydcova.org
END:VEVENT
END:VCALENDAR